BEGIN:VCALENDAR
VERSION:2.0
PRODID:-//Excel olympics - ECPv5.9.0//NONSGML v1.0//EN
CALSCALE:GREGORIAN
METHOD:PUBLISH
X-WR-CALNAME:Excel olympics
X-ORIGINAL-URL:https://excelolympics.com
X-WR-CALDESC:Events for Excel olympics
BEGIN:VTIMEZONE
TZID:Europe/Ljubljana
BEGIN:DAYLIGHT
TZOFFSETFROM:+0100
TZOFFSETTO:+0200
TZNAME:CEST
DTSTART:20210328T010000
END:DAYLIGHT
BEGIN:STANDARD
TZOFFSETFROM:+0200
TZOFFSETTO:+0100
TZNAME:CET
DTSTART:20211031T010000
END:STANDARD
END:VTIMEZONE
BEGIN:VEVENT
DTSTART;TZID=Europe/Ljubljana:20211211T080000
DTEND;TZID=Europe/Ljubljana:20211211T170000
DTSTAMP:20260424T092118
CREATED:20211122T115317Z
LAST-MODIFIED:20211122T122243Z
UID:3330-1639209600-1639242000@excelolympics.com
SUMMARY:SQL Saturday Slovenia 2021
DESCRIPTION:Enajstega decembra 2021 se vrače (žal le v Online obliki) legendarna konferenca SQL saturday Slovenia\, ki jo že mnoga leta organizirajo slovenske SQL legende: Mladen Prajdić Dejan Sarka Matija Lah in Tomaž Kaštrun. Dogodek je še toliko bolj pomemben\, ker gre res za community dogodek in vstopnine ni. Je pa za udeležbo potrebna prijava! \nTokrat bom z vami delil kako je Power BI igral vlogo pri verjetno največjemu koraku naprej v razvoju Excela in omogočanju dostopa do ključnih podatkov podjetja\, ki seveda živijo v sistemih in navadno v SQL bazah.
URL:https://excelolympics.com/event/sql-saturday-slovenia-2021/
LOCATION:Online
CATEGORIES:Konference,Predavanja
ATTACH;FMTTYPE=image/png:https://excelolympics.com/wp-content/uploads/2019/05/SQLsat.png
END:VEVENT
END:VCALENDAR