BEGIN:VCALENDAR
VERSION:2.0
PRODID:-//Excel olympics - ECPv5.9.0//NONSGML v1.0//EN
CALSCALE:GREGORIAN
METHOD:PUBLISH
X-WR-CALNAME:Excel olympics
X-ORIGINAL-URL:https://excelolympics.com
X-WR-CALDESC:Events for Excel olympics
BEGIN:VTIMEZONE
TZID:Europe/Ljubljana
BEGIN:DAYLIGHT
TZOFFSETFROM:+0100
TZOFFSETTO:+0200
TZNAME:CEST
DTSTART:20190331T010000
END:DAYLIGHT
BEGIN:STANDARD
TZOFFSETFROM:+0200
TZOFFSETTO:+0100
TZNAME:CET
DTSTART:20191027T010000
END:STANDARD
END:VTIMEZONE
BEGIN:VEVENT
DTSTART;TZID=Europe/Ljubljana:20190515T130000
DTEND;TZID=Europe/Ljubljana:20190515T160000
DTSTAMP:20260424T055446
CREATED:20190504T101236Z
LAST-MODIFIED:20190504T101339Z
UID:1284-1557925200-1557936000@excelolympics.com
SUMMARY:Office 365 & Excel - two sessions back-to-back
DESCRIPTION:Office 365 offers quite a few extensions to Excel that are not available in the regular standalone version of Microsoft Office. This first session will look at how the user experience varies between the two versions and why Office 365’s version of Excel is actually Excel vNext. There have been a number of little changes added but now they do add up to a quite different experience and quite a different product. Since many companies are already using Office 365 or will start to use it in the near future\, this session will provide a walkthrough of the differences. All will include short demos and some a more in-depth look and a vision of the future. The session will among other differences focus on: \n\nNew Data Types in Excel\nThe new Array formulas\nSome upgraded functions\nCollaboration Story\nExcel Online\nCharts\n\nWhereas session one of Office 365 & Excel focused on differentiating between Excel 365 and a standalone version of Excel\, this session is meant to place Excel within the whole Office 365 package. And this includes so much more than just other products from the Office suite. We will look at the collaboration story between Excel and: \n\nPower Apps\nFlow\nForms\nOne Drive for Business\nSharePoint Online\nPower BI…\n\nThis session should really give you a broader picture where Excel is just one piece (the most important one of course) of the Office 365 puzzle and how the whole picture gives you even more options and tools to enhance Excel.
URL:https://excelolympics.com/event/office-365-excel-two-sessions-back-to-back/
LOCATION:Zilveren toren Amsterdam\, Stationsplein 51\, 1012 AB Amsterdam\, Zilveren toren Amsterdam\, Stationsplein 51\, 1012 AB Amsterdam\, Amsterdam\, 1012\, Nizozemska
CATEGORIES:Konference
ATTACH;FMTTYPE=image/png:https://excelolympics.com/wp-content/uploads/2019/05/Amsterdam-Excel-Summit.png
END:VEVENT
END:VCALENDAR